BEGIN:VCALENDAR
CALSCALE:GREGORIAN
BEGIN:VEVENT
DTSTAMP:20231209T090618Z
DTSTART:20191114T090000Z
DTEND:20191114T190000Z
SUMMARY:FEMME MAISON´S AFTER-SHOW "SEE NOW - BUY NOW"
UID:5966e73b-1f7f-426b-a4c2-1ae726f982b9
LOCATION:Hahngasse 15\, 1090 Wien\, Austria
DESCRIPTION:Danke\, dass Sie sich für unsere Veranstaltung angemeldet haben!\n\nWir freuen uns\, Sie dort zu sehen!\n\nVeranstaltungsdetails im Überblick:\n\nFEMME MAISON´S AFTER-SHOW "SEE NOW - BUY NOW"\nNovember 14\, 2019\, 10:00 AM – 8:00 PM\nHahngasse 15\, 1090 Wien\, Austria
X-ALT-DESC;FMTTYPE=text/html:Danke\, dass Sie sich für unsere Veranstaltung angemeldet haben!\n\nWir freuen uns\, Sie dort zu sehen!\n\nVeranstaltungsdetails im Überblick:<br>FEMME MAISON´S AFTER-SHOW "SEE NOW - BUY NOW"\nNovember 14\, 2019\, 10:00 AM – 8:00 PM\nHahngasse 15\, 1090 Wien\, Austria
END:VEVENT
END:VCALENDAR
