BEGIN:VCALENDAR
CALSCALE:GREGORIAN
BEGIN:VEVENT
DTSTAMP:20231209T090534Z
DTSTART:20201207T140000Z
DTEND:20201223T170000Z
SUMMARY:FEMME MAISON Christmas Open Days
UID:728386c4-1146-4178-bf6a-a854e4455e7a
LOCATION:Hahngasse 15\, 1090 Wien
DESCRIPTION:Danke\, dass Sie sich für unsere Veranstaltung angemeldet haben!\n\nWir freuen uns\, Sie dort zu sehen!\n\nVeranstaltungsdetails im Überblick:\n\nFEMME MAISON Christmas Open Days\nDecember 7\, 2020 at 3:00 PM – December 23\, 2020 at 6:00 PM\nServitenviertel\, Hahngasse 15\, 1090 Wien
X-ALT-DESC;FMTTYPE=text/html:Danke\, dass Sie sich für unsere Veranstaltung angemeldet haben!\n\nWir freuen uns\, Sie dort zu sehen!\n\nVeranstaltungsdetails im Überblick:<br>FEMME MAISON Christmas Open Days\nDecember 7\, 2020 at 3:00 PM – December 23\, 2020 at 6:00 PM\nServitenviertel\, Hahngasse 15\, 1090 Wien
END:VEVENT
END:VCALENDAR
