BEGIN:VCALENDAR
CALSCALE:GREGORIAN
BEGIN:VEVENT
DTSTAMP:20231209T090600Z
DTSTART:20200116T140000Z
DTEND:20200116T190000Z
SUMMARY:Die letzten FEMME MAISON´S Archive Sales bis zu -70% 
UID:9253ebe6-dcf6-4a86-aac8-de08e052710f
LOCATION:Hahngasse 15\, 1090 Wien\, Austria
DESCRIPTION:Danke\, dass Sie sich für unsere Veranstaltung angemeldet haben!\n\nWir freuen uns\, Sie dort zu sehen!\n\nVeranstaltungsdetails im Überblick:\n\nDie letzten FEMME MAISON´S Archive Sales bis zu -70% \nJanuary 16\, 2020\, 3:00 – 8:00 PM\nServitenviertel\, Hahngasse 15\, 1090 Wien\, Austria
X-ALT-DESC;FMTTYPE=text/html:Danke\, dass Sie sich für unsere Veranstaltung angemeldet haben!\n\nWir freuen uns\, Sie dort zu sehen!\n\nVeranstaltungsdetails im Überblick:<br>Die letzten FEMME MAISON´S Archive Sales bis zu -70% \nJanuary 16\, 2020\, 3:00 – 8:00 PM\nServitenviertel\, Hahngasse 15\, 1090 Wien\, Austria
END:VEVENT
END:VCALENDAR
