BEGIN:VCALENDAR
CALSCALE:GREGORIAN
BEGIN:VEVENT
DTSTAMP:20231209T090559Z
DTSTART:20191121T090000Z
DTEND:20191121T190000Z
SUMMARY:FEMME MAISON’S CHRISTMAS GIFT SPECIAL N°1
UID:a4d1a9c0-c25e-475d-9a4a-4d9834143e39
LOCATION:Hahngasse 15\, 1090 Wien\, Austria
DESCRIPTION:Danke für die Anmeldung zu unserer Veranstaltung!\n\nWir freuen uns!\n\nVeranstaltungsdetails im Überblick:\n\nFEMME MAISON’S CHRISTMAS GIFT SPECIAL N°1\nNovember 21\, 2019\, 10:00 AM – 8:00 PM\nServitenviertel\, Hahngasse 15\, 1090 Wien\, Austria
X-ALT-DESC;FMTTYPE=text/html:Danke für die Anmeldung zu unserer Veranstaltung!\n\nWir freuen uns!\n\nVeranstaltungsdetails im Überblick:<br>FEMME MAISON’S CHRISTMAS GIFT SPECIAL N°1\nNovember 21\, 2019\, 10:00 AM – 8:00 PM\nServitenviertel\, Hahngasse 15\, 1090 Wien\, Austria
END:VEVENT
END:VCALENDAR
