BEGIN:VCALENDAR
CALSCALE:GREGORIAN
BEGIN:VEVENT
DTSTAMP:20231209T090533Z
DTSTART:20200109T140000Z
DTEND:20200109T190000Z
SUMMARY:Die letzten FEMME MAISON´S Archive Sales bis zu -70%
UID:b1f5c33f-74ee-489d-a1e4-e2c0d30e284a
LOCATION:Hahngasse 15\, 1090 Wien\, Austria
DESCRIPTION:Danke für die Anmeldung zu unserer Veranstaltung!\n\nWir freuen uns!\n\nVeranstaltungsdetails im Überblick:\n\nDie letzten FEMME MAISON´S Archive Sales bis zu -70%\nJanuary 9\, 2020\, 3:00 – 8:00 PM\nServitenviertel\, Hahngasse 15\, 1090 Wien\, Austria
X-ALT-DESC;FMTTYPE=text/html:Danke für die Anmeldung zu unserer Veranstaltung!\n\nWir freuen uns!\n\nVeranstaltungsdetails im Überblick:<br>Die letzten FEMME MAISON´S Archive Sales bis zu -70%\nJanuary 9\, 2020\, 3:00 – 8:00 PM\nServitenviertel\, Hahngasse 15\, 1090 Wien\, Austria
END:VEVENT
END:VCALENDAR
