BEGIN:VCALENDAR
CALSCALE:GREGORIAN
BEGIN:VEVENT
DTSTAMP:20231209T090527Z
DTSTART:20191205T090000Z
DTEND:20191205T190000Z
SUMMARY:FEMME MAISON’S CHRISTMAS GIFT SPECIAL N°2
UID:bc4e4955-5099-4301-aed4-88bdcd2b20e6
LOCATION:Hahngasse\, 1090 Wien\, Austria
DESCRIPTION:Danke für die Anmeldung zu unserer Veranstaltung!\n\nWir freuen uns!\n\nVeranstaltungsdetails im Überblick:\n\nFEMME MAISON’S CHRISTMAS GIFT SPECIAL N°2\nDecember 5\, 2019\, 10:00 AM – 8:00 PM\nServitenviertel\, Hahngasse\, 1090 Wien\, Austria
X-ALT-DESC;FMTTYPE=text/html:Danke für die Anmeldung zu unserer Veranstaltung!\n\nWir freuen uns!\n\nVeranstaltungsdetails im Überblick:<br>FEMME MAISON’S CHRISTMAS GIFT SPECIAL N°2\nDecember 5\, 2019\, 10:00 AM – 8:00 PM\nServitenviertel\, Hahngasse\, 1090 Wien\, Austria
END:VEVENT
END:VCALENDAR
