BEGIN:VCALENDAR
CALSCALE:GREGORIAN
BEGIN:VEVENT
DTSTAMP:20231209T090602Z
DTSTART:20191017T080000Z
DTEND:20191018T110000Z
SUMMARY:Private Grand Archive Sale* bis zu -70% (Subscribers only)
UID:cb1bcfdf-b5f7-4bf1-919d-4d9f14af8fe9
LOCATION:Hahngasse 15\, 1090 Wien
DESCRIPTION:Danke für die Anmeldung zu unserer Veranstaltung!\n\nWir freuen uns!\n\nVeranstaltungsdetails im Überblick:\n\nPrivate Grand Archive Sale* bis zu -70% (Subscribers only)\nOctober 17\, 2019 at 10:00 AM – October 18\, 2019 at 1:00 PM\nFEMME MAISON Wien\, Hahngasse 15\, 1090 Wien
X-ALT-DESC;FMTTYPE=text/html:Danke für die Anmeldung zu unserer Veranstaltung!\n\nWir freuen uns!\n\nVeranstaltungsdetails im Überblick:<br>Private Grand Archive Sale* bis zu -70% (Subscribers only)\nOctober 17\, 2019 at 10:00 AM – October 18\, 2019 at 1:00 PM\nFEMME MAISON Wien\, Hahngasse 15\, 1090 Wien
END:VEVENT
END:VCALENDAR
