BEGIN:VCALENDAR
CALSCALE:GREGORIAN
BEGIN:VEVENT
DTSTAMP:20231209T090527Z
DTSTART:20200227T140000Z
DTEND:20200227T190000Z
SUMMARY:FRENCH MOUSSE JERSEY Classic Collection: Pre-Order Sales Event 
UID:cf4c2d04-8266-44e3-8b60-11dd3c070c34
LOCATION:Hahngasse 15\, 1090 Wien\, Austria
DESCRIPTION:Danke für die Anmeldung zu unserer Veranstaltung!\n\nWir freuen uns!\n\nVeranstaltungsdetails im Überblick:\n\nFRENCH MOUSSE JERSEY Classic Collection: Pre-Order Sales Event \nFebruary 27\, 2020\, 3:00 – 8:00 PM\nServitenviertel\, Hahngasse 15\, 1090 Wien\, Austria
X-ALT-DESC;FMTTYPE=text/html:Danke für die Anmeldung zu unserer Veranstaltung!\n\nWir freuen uns!\n\nVeranstaltungsdetails im Überblick:<br>FRENCH MOUSSE JERSEY Classic Collection: Pre-Order Sales Event \nFebruary 27\, 2020\, 3:00 – 8:00 PM\nServitenviertel\, Hahngasse 15\, 1090 Wien\, Austria
END:VEVENT
END:VCALENDAR
