BEGIN:VCALENDAR
CALSCALE:GREGORIAN
BEGIN:VEVENT
DTSTAMP:20231209T090549Z
DTSTART:20221006T130000Z
DTEND:20221006T170000Z
SUMMARY:OPEN  THURSDAY AFTERNOON\, ohne Terminvereinbarung   
UID:d92d2f8a-94f8-46a0-96f1-53a5345e9dea
LOCATION:Hahngasse 15\, 1090 Wien\, Austria
DESCRIPTION:Danke für die Anmeldung zu unserer Veranstaltung!\n\nWir freuen uns!\n\nVeranstaltungsdetails im Überblick:\n\nOPEN  THURSDAY AFTERNOON\, ohne Terminvereinbarung   \nOctober 6\, 2022\, 3:00 – 7:00 PM GMT+2\nWien\, Hahngasse 15\, 1090 Wien\, Austria
X-ALT-DESC;FMTTYPE=text/html:Danke für die Anmeldung zu unserer Veranstaltung!\n\nWir freuen uns!\n\nVeranstaltungsdetails im Überblick:<br>OPEN  THURSDAY AFTERNOON\, ohne Terminvereinbarung   \nOctober 6\, 2022\, 3:00 – 7:00 PM GMT+2\nWien\, Hahngasse 15\, 1090 Wien\, Austria
END:VEVENT
END:VCALENDAR
