BEGIN:VCALENDAR
CALSCALE:GREGORIAN
BEGIN:VEVENT
DTSTAMP:20231209T090534Z
DTSTART:20211111T090000Z
DTEND:20211111T180000Z
SUMMARY:CHRISTMAS ARCHIVE SALE
UID:dd2be084-66c8-40a2-9b4d-0074c8547e8b
LOCATION:Hahngasse 15\, 1090 Wien\, Austria
DESCRIPTION:Danke für die Anmeldung zu unserer Veranstaltung!\n\nWir freuen uns!\n\nVeranstaltungsdetails im Überblick:\n\nCHRISTMAS ARCHIVE SALE\nNovember 11\, 2021\, 10:00 AM – 7:00 PM GMT+1\nServitenviertel Wien\, Hahngasse 15\, 1090 Wien\, Austria
X-ALT-DESC;FMTTYPE=text/html:Danke für die Anmeldung zu unserer Veranstaltung!\n\nWir freuen uns!\n\nVeranstaltungsdetails im Überblick:<br>CHRISTMAS ARCHIVE SALE\nNovember 11\, 2021\, 10:00 AM – 7:00 PM GMT+1\nServitenviertel Wien\, Hahngasse 15\, 1090 Wien\, Austria
END:VEVENT
END:VCALENDAR
