BEGIN:VCALENDAR
CALSCALE:GREGORIAN
BEGIN:VEVENT
DTSTAMP:20231209T090529Z
DTSTART:20220609T130000Z
DTEND:20220609T170000Z
SUMMARY:OPEN THURSDAY AFTERNOON  
UID:e49aaefd-2389-4458-8c5b-54cb46fc27a6
LOCATION:Hahngasse 15\, 1090 Wien\, Austria
DESCRIPTION:Danke\, dass Sie sich für unsere Veranstaltung angemeldet haben!\n\nWir freuen uns\, Sie dort zu sehen!\n\nVeranstaltungsdetails im Überblick:\n\nOPEN THURSDAY AFTERNOON  \nJune 9\, 2022\, 3:00 – 7:00 PM GMT+2\nServitenviertel\, Hahngasse 15\, 1090 Wien\, Austria
X-ALT-DESC;FMTTYPE=text/html:Danke\, dass Sie sich für unsere Veranstaltung angemeldet haben!\n\nWir freuen uns\, Sie dort zu sehen!\n\nVeranstaltungsdetails im Überblick:<br>OPEN THURSDAY AFTERNOON  \nJune 9\, 2022\, 3:00 – 7:00 PM GMT+2\nServitenviertel\, Hahngasse 15\, 1090 Wien\, Austria
END:VEVENT
END:VCALENDAR
