BEGIN:VCALENDAR
CALSCALE:GREGORIAN
BEGIN:VEVENT
DTSTAMP:20231209T090608Z
DTSTART:20191219T090000Z
DTEND:20191219T190000Z
SUMMARY:FEMME MAISON’S HAPPY HOLIDAY SPECIAL Archive Sale bis zu -70%
UID:e79dd3f4-d138-4024-a079-ea78b6386c91
LOCATION:Hahngasse 15\, 1090 Wien\, Austria
DESCRIPTION:Danke für die Anmeldung zu unserer Veranstaltung!\n\nWir freuen uns!\n\nVeranstaltungsdetails im Überblick:\n\nFEMME MAISON’S HAPPY HOLIDAY SPECIAL Archive Sale bis zu -70%\nDecember 19\, 2019\, 10:00 AM – 8:00 PM\nHahngasse 15\, 1090 Wien\, Austria
X-ALT-DESC;FMTTYPE=text/html:Danke für die Anmeldung zu unserer Veranstaltung!\n\nWir freuen uns!\n\nVeranstaltungsdetails im Überblick:<br>FEMME MAISON’S HAPPY HOLIDAY SPECIAL Archive Sale bis zu -70%\nDecember 19\, 2019\, 10:00 AM – 8:00 PM\nHahngasse 15\, 1090 Wien\, Austria
END:VEVENT
END:VCALENDAR
