BEGIN:VCALENDAR
CALSCALE:GREGORIAN
BEGIN:VEVENT
DTSTAMP:20231209T090528Z
DTSTART:20220922T130000Z
DTEND:20220922T170000Z
SUMMARY:OPEN  THURSDAY AFTERNOON\, ohne Terminvereinbarung   
UID:ecdaa904-2266-4045-9c84-a692010e39d6
LOCATION:Hahngasse 15\, 1090 Wien\, Austria
DESCRIPTION:Danke für die Anmeldung zu unserer Veranstaltung!\n\nWir freuen uns!\n\nVeranstaltungsdetails im Überblick:\n\nOPEN  THURSDAY AFTERNOON\, ohne Terminvereinbarung   \nSeptember 22\, 2022\, 3:00 – 7:00 PM GMT+2\nWien\, Hahngasse 15\, 1090 Wien\, Austria
X-ALT-DESC;FMTTYPE=text/html:Danke für die Anmeldung zu unserer Veranstaltung!\n\nWir freuen uns!\n\nVeranstaltungsdetails im Überblick:<br>OPEN  THURSDAY AFTERNOON\, ohne Terminvereinbarung   \nSeptember 22\, 2022\, 3:00 – 7:00 PM GMT+2\nWien\, Hahngasse 15\, 1090 Wien\, Austria
END:VEVENT
END:VCALENDAR
