BEGIN:VCALENDAR
CALSCALE:GREGORIAN
BEGIN:VEVENT
DTSTAMP:20231209T090611Z
DTSTART:20210225T140000Z
DTEND:20210225T170000Z
SUMMARY:OPEN THURSDAY AFTERNOON\, ohne Terminvereinbarung  
UID:f67223fe-128a-446e-9ae4-841b0ddc2cd1
LOCATION:Hahngasse 15\, 1090 Wien\, Austria
DESCRIPTION:Danke\, dass Sie sich für unsere Veranstaltung angemeldet haben!\n\nWir freuen uns\, Sie dort zu sehen!\n\nVeranstaltungsdetails im Überblick:\n\nOPEN THURSDAY AFTERNOON\, ohne Terminvereinbarung  \nFebruary 25\, 2021\, 3:00 – 6:00 PM\nServitenviertel\, Hahngasse 15\, 1090 Wien\, Austria
X-ALT-DESC;FMTTYPE=text/html:Danke\, dass Sie sich für unsere Veranstaltung angemeldet haben!\n\nWir freuen uns\, Sie dort zu sehen!\n\nVeranstaltungsdetails im Überblick:<br>OPEN THURSDAY AFTERNOON\, ohne Terminvereinbarung  \nFebruary 25\, 2021\, 3:00 – 6:00 PM\nServitenviertel\, Hahngasse 15\, 1090 Wien\, Austria
END:VEVENT
END:VCALENDAR
