BEGIN:VCALENDAR
CALSCALE:GREGORIAN
BEGIN:VEVENT
DTSTAMP:20221028T171512Z
DTSTART:20231121T050004Z
DTEND:20231121T090004Z
SUMMARY:Женщины-инженеры преподают Javascript
UID:7dc5aa91-ac8a-46a4-8205-034f30413821
LOCATION:500 Terry A Francois Blvd\, Сан-Франциско\, Калифорния 94158\, США
DESCRIPTION:Спасибо за регистрацию на наше мероприятие!\n\nМы с нетерпением ждем встречи с вами там.\n\nВот подробности события:\n\nЖенщины-инженеры преподают Javascript\n20 ноября 2023 г.\, 21:00\nСан-Франциско\, 500 Terry A Francois Blvd\, Сан-Франциско\, Калифорния 94158\, США
X-ALT-DESC;FMTTYPE=text/html:Спасибо за регистрацию на наше мероприятие!\n\nМы с нетерпением ждем встречи с вами там.\n\nВот подробности события:<br>Женщины-инженеры преподают Javascript\n20 ноября 2023 г.\, 21:00\nСан-Франциско\, 500 Terry A Francois Blvd\, Сан-Франциско\, Калифорния 94158\, США
END:VEVENT
END:VCALENDAR
