BEGIN:VCALENDAR
CALSCALE:GREGORIAN
BEGIN:VEVENT
DTSTAMP:20221028T171940Z
DTSTART:20231220T040004Z
DTEND:20231220T080004Z
SUMMARY:Лекция: Гендерный разрыв в оплате труда
UID:92d271f4-7ce6-42f2-ac96-8c5cd5be0d02
LOCATION:500 Terry A Francois Blvd\, Сан-Франциско\, Калифорния 94158\, США
DESCRIPTION:Спасибо за регистрацию на наше мероприятие!\n\nМы с нетерпением ждем встречи с вами там.\n\nВот подробности события:\n\nЛекция: Гендерный разрыв в оплате труда\n19 декабря 2023 г.\, 20:00\nСан-Франциско\, 500 Terry A Francois Blvd\, Сан-Франциско\, Калифорния 94158\, США
X-ALT-DESC;FMTTYPE=text/html:Спасибо за регистрацию на наше мероприятие!\n\nМы с нетерпением ждем встречи с вами там.\n\nВот подробности события:<br>Лекция: Гендерный разрыв в оплате труда\n19 декабря 2023 г.\, 20:00\nСан-Франциско\, 500 Terry A Francois Blvd\, Сан-Франциско\, Калифорния 94158\, США
END:VEVENT
END:VCALENDAR
