BEGIN:VCALENDAR
CALSCALE:GREGORIAN
BEGIN:VEVENT
DTSTAMP:20221028T171512Z
DTSTART:20230924T020004Z
DTEND:20230924T060004Z
SUMMARY:10K против рака молочной железы
UID:aa844bd8-84f5-4b07-aec2-e235b4a45fba
LOCATION:500 Terry A Francois Blvd\, Сан-Франциско\, Калифорния 94158\, США
DESCRIPTION:Спасибо за регистрацию на наше мероприятие!\n\nМы с нетерпением ждем встречи с вами там.\n\nВот подробности события:\n\n10K против рака молочной железы\n23 сентября 2023 г.\, 19:00\nСан-Франциско\, 500 Terry A Francois Blvd\, Сан-Франциско\, Калифорния 94158\, США
X-ALT-DESC;FMTTYPE=text/html:Спасибо за регистрацию на наше мероприятие!\n\nМы с нетерпением ждем встречи с вами там.\n\nВот подробности события:<br>10K против рака молочной железы\n23 сентября 2023 г.\, 19:00\nСан-Франциско\, 500 Terry A Francois Blvd\, Сан-Франциско\, Калифорния 94158\, США
END:VEVENT
END:VCALENDAR
