BEGIN:VCALENDAR
CALSCALE:GREGORIAN
BEGIN:VEVENT
DTSTAMP:20221028T171434Z
DTSTART:20231121T050004Z
DTEND:20231121T090004Z
SUMMARY:Жінки-інженери викладають Javascript
UID:7dc5aa91-ac8a-46a4-8205-034f30413821
LOCATION:500 Terry A Francois Blvd\, San Francisco\, CA 94158\, USA
DESCRIPTION:Дякуємо за реєстрацію на наш захід!\n\nМи з нетерпінням чекаємо вас там.\n\nОсь деталі події:\n\nЖінки-інженери викладають Javascript\n20 листопада 2023 р. о 21:00\nСан Франциско\, 500 Terry A Francois Blvd\, San Francisco\, CA 94158\, USA
X-ALT-DESC;FMTTYPE=text/html:Дякуємо за реєстрацію на наш захід!\n\nМи з нетерпінням чекаємо вас там.\n\nОсь деталі події:<br>Жінки-інженери викладають Javascript\n20 листопада 2023 р. о 21:00\nСан Франциско\, 500 Terry A Francois Blvd\, San Francisco\, CA 94158\, USA
END:VEVENT
END:VCALENDAR
