BEGIN:VCALENDAR
CALSCALE:GREGORIAN
BEGIN:VEVENT
DTSTAMP:20221028T171511Z
DTSTART:20231220T040004Z
DTEND:20231220T080004Z
SUMMARY:Лекція: Гендерний розрив в оплаті праці
UID:92d271f4-7ce6-42f2-ac96-8c5cd5be0d02
LOCATION:500 Terry A Francois Blvd\, San Francisco\, CA 94158\, USA
DESCRIPTION:Дякуємо за реєстрацію на наш захід!\n\nМи з нетерпінням чекаємо вас там.\n\nОсь деталі події:\n\nЛекція: Гендерний розрив в оплаті праці\n19 грудня 2023 р. о 20:00\nСан Франциско\, 500 Terry A Francois Blvd\, San Francisco\, CA 94158\, USA
X-ALT-DESC;FMTTYPE=text/html:Дякуємо за реєстрацію на наш захід!\n\nМи з нетерпінням чекаємо вас там.\n\nОсь деталі події:<br>Лекція: Гендерний розрив в оплаті праці\n19 грудня 2023 р. о 20:00\nСан Франциско\, 500 Terry A Francois Blvd\, San Francisco\, CA 94158\, USA
END:VEVENT
END:VCALENDAR
