BEGIN:VCALENDAR
CALSCALE:GREGORIAN
BEGIN:VEVENT
DTSTAMP:20221028T171507Z
DTSTART:20230924T020004Z
DTEND:20230924T060004Z
SUMMARY:10K проти раку молочної залози
UID:aa844bd8-84f5-4b07-aec2-e235b4a45fba
LOCATION:500 Terry A Francois Blvd\, San Francisco\, CA 94158\, USA
DESCRIPTION:Дякуємо за реєстрацію на наш захід!\n\nМи з нетерпінням чекаємо вас там.\n\nОсь деталі події:\n\n10K проти раку молочної залози\n23 вересня 2023 р. о 19:00\nСан Франциско\, 500 Terry A Francois Blvd\, San Francisco\, CA 94158\, USA
X-ALT-DESC;FMTTYPE=text/html:Дякуємо за реєстрацію на наш захід!\n\nМи з нетерпінням чекаємо вас там.\n\nОсь деталі події:<br>10K проти раку молочної залози\n23 вересня 2023 р. о 19:00\nСан Франциско\, 500 Terry A Francois Blvd\, San Francisco\, CA 94158\, USA
END:VEVENT
END:VCALENDAR
