BEGIN:VCALENDAR
CALSCALE:GREGORIAN
BEGIN:VEVENT
DTSTAMP:20230708T032718Z
DTSTART:20200111T190000Z
DTEND:20200113T030000Z
SUMMARY:MeWe Metaphysical-Wellness Fair\, 40 Talks/Panels\, 75+ Booths
UID:243f6c88-66ab-4069-a12b-78ae364728c0
LOCATION:1000 NE Multnomah St\, Portland\, OR 97232\, USA
DESCRIPTION:Thank you for registering to our event! Your tickets are attached to this email. Don't forget to bring them.\n\nWe're looking forward to seeing you there.\n\nHere are the details:\n\nMeWe Metaphysical-Wellness Fair\, 40 Talks/Panels\, 75+ Booths\nJanuary 11\, 2020 at 11:00 AM – January 12\, 2020 at 7:00 PM\nDoubleTree by Hilton Hotel Portland\, 1000 NE Multnomah St\, Portland\, OR 97232\, USA
X-ALT-DESC;FMTTYPE=text/html:Thank you for registering to our event! Your tickets are attached to this email. Don't forget to bring them.\n\nWe're looking forward to seeing you there.\n\nHere are the details:<br>MeWe Metaphysical-Wellness Fair\, 40 Talks/Panels\, 75+ Booths\nJanuary 11\, 2020 at 11:00 AM – January 12\, 2020 at 7:00 PM\nDoubleTree by Hilton Hotel Portland\, 1000 NE Multnomah St\, Portland\, OR 97232\, USA
END:VEVENT
END:VCALENDAR
