BEGIN:VCALENDAR
CALSCALE:GREGORIAN
BEGIN:VEVENT
DTSTAMP:20230708T032711Z
DTSTART:20200202T190000Z
DTEND:20200203T030000Z
SUMMARY:MeWe Metaphysical-Wellness Fair\, 50 Booths\, 40 Talks Sunday
UID:297acd48-3144-446a-a273-3b4d6fdc36ad
LOCATION:3301 Market St NE\, Salem\, OR 97301\, USA
DESCRIPTION:Thank you for registering to our event! Your tickets are attached to this email. Don't forget to bring them.\n\nWe're looking forward to seeing you there.\n\nHere are the details:\n\nMeWe Metaphysical-Wellness Fair\, 50 Booths\, 40 Talks Sunday\nFebruary 2\, 2020\, 11:00 AM – 7:00 PM\nHoliday Inn Salem\, 3301 Market St NE\, Salem\, OR 97301\, USA
X-ALT-DESC;FMTTYPE=text/html:Thank you for registering to our event! Your tickets are attached to this email. Don't forget to bring them.\n\nWe're looking forward to seeing you there.\n\nHere are the details:<br>MeWe Metaphysical-Wellness Fair\, 50 Booths\, 40 Talks Sunday\nFebruary 2\, 2020\, 11:00 AM – 7:00 PM\nHoliday Inn Salem\, 3301 Market St NE\, Salem\, OR 97301\, USA
END:VEVENT
END:VCALENDAR
