BEGIN:VCALENDAR
CALSCALE:GREGORIAN
BEGIN:VEVENT
DTSTAMP:20230708T032713Z
DTSTART:20190216T100000Z
DTEND:20190216T180000Z
SUMMARY:Uplift Yourself
UID:4891389b-1daa-498d-bed1-0e790f5d800f
LOCATION:2027 152nd Ave NE #100\, Redmond\, WA 98052
DESCRIPTION:Thank you for registering to our event!\n\nWe're looking forward to seeing you there.\n\nHere are the event details:\n\nUplift Yourself\nFebruary 16\, 2019\, 12:00 – 8:00 PM\nUplift Yourself\, 2027 152nd Ave NE #100\, Redmond\, WA 98052
X-ALT-DESC;FMTTYPE=text/html:Thank you for registering to our event!\n\nWe're looking forward to seeing you there.\n\nHere are the event details:<br>Uplift Yourself\nFebruary 16\, 2019\, 12:00 – 8:00 PM\nUplift Yourself\, 2027 152nd Ave NE #100\, Redmond\, WA 98052
END:VEVENT
END:VCALENDAR
