BEGIN:VCALENDAR
CALSCALE:GREGORIAN
BEGIN:VEVENT
DTSTAMP:20230708T032714Z
DTSTART:20230820T040000Z
DTEND:20230820T080000Z
SUMMARY:Nevada Country Run
UID:6587bffd-21cb-40a0-b4d7-f1d8d346c7a0
LOCATION:Mountain View\, CA\, USA
DESCRIPTION:Thank you for registering to our event!\n\nWe're looking forward to seeing you there.\n\nHere are the event details:\n\nNevada Country Run\nAugust 20\, 2023 at 7:00 AM\nMountain View\, Mountain View\, CA\, USA
X-ALT-DESC;FMTTYPE=text/html:Thank you for registering to our event!\n\nWe're looking forward to seeing you there.\n\nHere are the event details:<br>Nevada Country Run\nAugust 20\, 2023 at 7:00 AM\nMountain View\, Mountain View\, CA\, USA
END:VEVENT
END:VCALENDAR
