BEGIN:VCALENDAR
CALSCALE:GREGORIAN
BEGIN:VEVENT
DTSTAMP:20230708T032709Z
DTSTART:20230421T040000Z
DTEND:20230421T080000Z
SUMMARY:San Francisco Half Marathon
UID:63eee2c9-0805-40a8-baa7-6025deec6b2a
LOCATION:500 Terry Francois Street\, 6th Floor. San Francisco\, CA 94158
DESCRIPTION:Thank you for registering to our event!\n\nWe're looking forward to seeing you there.\n\nHere are the event details:\n\nSan Francisco Half Marathon\nApril 21\, 2023 at 7:00 AM\n500 Terry Francois Street\, 6th Floor. San Francisco\, CA 94158
X-ALT-DESC;FMTTYPE=text/html:Thank you for registering to our event!\n\nWe're looking forward to seeing you there.\n\nHere are the event details:<br>San Francisco Half Marathon\nApril 21\, 2023 at 7:00 AM\n500 Terry Francois Street\, 6th Floor. San Francisco\, CA 94158
END:VEVENT
END:VCALENDAR
