BEGIN:VCALENDAR
CALSCALE:GREGORIAN
BEGIN:VEVENT
DTSTAMP:20230708T032712Z
DTSTART:20200201T190000Z
DTEND:20200202T030000Z
SUMMARY:MeWe Metaphysical-Wellness Fair\, 50 Booths\, 40 Talks
UID:88105e02-e6f8-4a09-b54a-179de5b1d451
LOCATION:3301 Market St NE\, Salem\, OR 97301\, USA
DESCRIPTION:Thank you for registering to our event! Your tickets are attached to this email. Don't forget to bring them.\n\nWe're looking forward to seeing you there.\n\nHere are the details:\n\nMeWe Metaphysical-Wellness Fair\, 50 Booths\, 40 Talks\nFebruary 1\, 2020\, 11:00 AM – 7:00 PM\nHoliday Inn Salem\, 3301 Market St NE\, Salem\, OR 97301\, USA
X-ALT-DESC;FMTTYPE=text/html:Thank you for registering to our event! Your tickets are attached to this email. Don't forget to bring them.\n\nWe're looking forward to seeing you there.\n\nHere are the details:<br>MeWe Metaphysical-Wellness Fair\, 50 Booths\, 40 Talks\nFebruary 1\, 2020\, 11:00 AM – 7:00 PM\nHoliday Inn Salem\, 3301 Market St NE\, Salem\, OR 97301\, USA
END:VEVENT
END:VCALENDAR
