BEGIN:VCALENDAR
CALSCALE:GREGORIAN
BEGIN:VEVENT
DTSTAMP:20230708T032715Z
DTSTART:20190530T010000Z
DTEND:20190530T040000Z
SUMMARY:Online Metaphysical Wellness Fair
UID:c5bac0a2-f6d2-4bf0-a9ac-48f6ee86890e
LOCATION:www.JoinTheFair.com
DESCRIPTION:Thank you for registering for the Online Metaphysical Wellness Fair on May 29.\n\nWe're looking forward to seeing you online.\n\nHere are the event details:\n\nOnline Metaphysical Wellness Fair\nMay 29\, 2019\, 6:00 – 9:00 PM\nOnline\, www.JoinTheFair.com
X-ALT-DESC;FMTTYPE=text/html:Thank you for registering for the Online Metaphysical Wellness Fair on May 29.\n\nWe're looking forward to seeing you online.\n\nHere are the event details:<br>Online Metaphysical Wellness Fair\nMay 29\, 2019\, 6:00 – 9:00 PM\nOnline\, www.JoinTheFair.com
END:VEVENT
END:VCALENDAR
