BEGIN:VCALENDAR
CALSCALE:GREGORIAN
BEGIN:VEVENT
DTSTAMP:20230708T032718Z
DTSTART:20230527T040000Z
DTEND:20230527T080000Z
SUMMARY:Charity 10k Fun Run
UID:c7a8d82c-bda6-4f95-88af-bc0d99e9b159
LOCATION:Mountain View\, CA\, USA
DESCRIPTION:Thank you for registering to our event!\n\nWe're looking forward to seeing you there.\n\nHere are the event details:\n\nCharity 10k Fun Run\nMay 27\, 2023 at 7:00 AM\nMountain View\, Mountain View\, CA\, USA
X-ALT-DESC;FMTTYPE=text/html:Thank you for registering to our event!\n\nWe're looking forward to seeing you there.\n\nHere are the event details:<br>Charity 10k Fun Run\nMay 27\, 2023 at 7:00 AM\nMountain View\, Mountain View\, CA\, USA
END:VEVENT
END:VCALENDAR
