BEGIN:VCALENDAR
CALSCALE:GREGORIAN
BEGIN:VEVENT
DTSTAMP:20240215T172323Z
DTSTART:20231023T163000Z
DTEND:20231024T163000Z
SUMMARY:Kick Off! 
UID:9e05f102-b7fb-46a3-84fc-5d241ad192c0
LOCATION:Hülsse-Bau\, Helmholtzstraße 10\, 01069 Dresden\, Germany
X-ALT-DESC;FMTTYPE=text/html:
END:VEVENT
END:VCALENDAR
