BEGIN:VCALENDAR
CALSCALE:GREGORIAN
BEGIN:VEVENT
DTSTAMP:20221028T171503Z
DTSTART:20231220T040004Z
DTEND:20231220T080004Z
SUMMARY:Lecture: The Gender Pay Gap
UID:92d271f4-7ce6-42f2-ac96-8c5cd5be0d02
LOCATION:500 Terry A Francois Blvd\, San Francisco\, CA 94158\, USA
DESCRIPTION:Thank you for registering to our event!\n\nWe're looking forward to seeing you there.\n\nHere are the event details:\n\nLecture: The Gender Pay Gap\n19 december 2023 om 20:00\nSan Francisco\, 500 Terry A Francois Blvd\, San Francisco\, CA 94158\, USA
X-ALT-DESC;FMTTYPE=text/html:Thank you for registering to our event!\n\nWe're looking forward to seeing you there.\n\nHere are the event details:<br>Lecture: The Gender Pay Gap\n19 december 2023 om 20:00\nSan Francisco\, 500 Terry A Francois Blvd\, San Francisco\, CA 94158\, USA
END:VEVENT
END:VCALENDAR
