BEGIN:VCALENDAR
CALSCALE:GREGORIAN
BEGIN:VEVENT
DTSTAMP:20230407T211642Z
DTSTART:20170506T160000Z
DTEND:20170506T200000Z
SUMMARY:Invitation : soirée conviviale le samedi 6 mai au Boteco - dès 18h
UID:b2d3a372-546d-4432-b7b9-765a3fecc1c4
LOCATION:Rue Micheli-du-Crest 12\, 1205 Genève\, Suisse
DESCRIPTION:Merci pour ta réponse.\nJe me réjouis de te voir à cette occasion.\n\nInvitation : soirée conviviale le samedi 6 mai au Boteco - dès 18h\n6 mai 2017 à 18:00\nLe Boteco\, Rue Micheli-du-Crest 12\, 1205 Genève\, Suisse
X-ALT-DESC;FMTTYPE=text/html:Merci pour ta réponse.\nJe me réjouis de te voir à cette occasion.<br>Invitation : soirée conviviale le samedi 6 mai au Boteco - dès 18h\n6 mai 2017 à 18:00\nLe Boteco\, Rue Micheli-du-Crest 12\, 1205 Genève\, Suisse
END:VEVENT
END:VCALENDAR
