BEGIN:VCALENDAR
CALSCALE:GREGORIAN
BEGIN:VEVENT
DTSTAMP:20230306T011904Z
DTSTART:20230715T190000Z
DTEND:20230715T230000Z
SUMMARY:Paper Camp - 12pm Showtime
UID:0a8c98e5-0b86-46bf-8dd6-32bdc7b2791f
LOCATION:500 Terry A Francois Blvd\, San Francisco\, CA 94158\, USA
DESCRIPTION:Thank you for registering to our event! Your tickets are attached to this email. Don't forget to bring them.\n\nWe're looking forward to seeing you there.\n\nHere are the details:\n\nPaper Camp - 12pm Showtime\n15. Juli 2023 um 12:00\nEssence Drive-In\, 500 Terry A Francois Blvd\, San Francisco\, CA 94158\, USA
X-ALT-DESC;FMTTYPE=text/html:Thank you for registering to our event! Your tickets are attached to this email. Don't forget to bring them.\n\nWe're looking forward to seeing you there.\n\nHere are the details:<br>Paper Camp - 12pm Showtime\n15. Juli 2023 um 12:00\nEssence Drive-In\, 500 Terry A Francois Blvd\, San Francisco\, CA 94158\, USA
END:VEVENT
END:VCALENDAR
