BEGIN:VCALENDAR
CALSCALE:GREGORIAN
BEGIN:VEVENT
DTSTAMP:20230306T011908Z
DTSTART:20230713T190000Z
DTEND:20230713T230000Z
SUMMARY:Modern Day Love - 12pm Showtime
UID:44304c37-b77d-497a-ac82-93eaa18cdd8e
LOCATION:500 Terry A Francois Blvd\, San Francisco\, CA 94158\, USA
DESCRIPTION:Thank you for registering to our event! Your tickets are attached to this email. Don't forget to bring them.\n\nWe're looking forward to seeing you there.\n\nHere are the details:\n\nModern Day Love - 12pm Showtime\n13. Juli 2023 um 12:00\nEssence Drive-In\, 500 Terry A Francois Blvd\, San Francisco\, CA 94158\, USA
X-ALT-DESC;FMTTYPE=text/html:Thank you for registering to our event! Your tickets are attached to this email. Don't forget to bring them.\n\nWe're looking forward to seeing you there.\n\nHere are the details:<br>Modern Day Love - 12pm Showtime\n13. Juli 2023 um 12:00\nEssence Drive-In\, 500 Terry A Francois Blvd\, San Francisco\, CA 94158\, USA
END:VEVENT
END:VCALENDAR
