BEGIN:VCALENDAR
CALSCALE:GREGORIAN
BEGIN:VEVENT
DTSTAMP:20230306T011908Z
DTSTART:20230713T020000Z
DTEND:20230713T060000Z
SUMMARY:Dark Ocean - 7pm Showtime
UID:c4736702-891a-44d6-b986-9b10d1b8beb8
LOCATION:500 Terry A Francois Blvd\, San Francisco\, CA 94158\, USA
DESCRIPTION:Thank you for registering to our event! Your tickets are attached to this email. Don't forget to bring them.\n\nWe're looking forward to seeing you there.\n\nHere are the details:\n\nDark Ocean - 7pm Showtime\n12. Juli 2023 um 19:00\nEssence Drive-In\, 500 Terry A Francois Blvd\, San Francisco\, CA 94158\, USA
X-ALT-DESC;FMTTYPE=text/html:Thank you for registering to our event! Your tickets are attached to this email. Don't forget to bring them.\n\nWe're looking forward to seeing you there.\n\nHere are the details:<br>Dark Ocean - 7pm Showtime\n12. Juli 2023 um 19:00\nEssence Drive-In\, 500 Terry A Francois Blvd\, San Francisco\, CA 94158\, USA
END:VEVENT
END:VCALENDAR
