BEGIN:VCALENDAR
CALSCALE:GREGORIAN
BEGIN:VEVENT
DTSTAMP:20230306T011907Z
DTSTART:20230715T020000Z
DTEND:20230715T060000Z
SUMMARY:Future Glitch - 7pm Showtime
UID:c3c84bcd-86b0-4c44-99f4-a5bf317af112
LOCATION:500 Terry A Francois Blvd\, San Francisco\, CA 94158\, USA
DESCRIPTION:Thank you for registering to our event! Your tickets are attached to this email. Don't forget to bring them.\n\nWe're looking forward to seeing you there.\n\nHere are the details:\n\nFuture Glitch - 7pm Showtime\n14. Juli 2023 um 19:00\nEssence Drive-In\, 500 Terry A Francois Blvd\, San Francisco\, CA 94158\, USA
X-ALT-DESC;FMTTYPE=text/html:Thank you for registering to our event! Your tickets are attached to this email. Don't forget to bring them.\n\nWe're looking forward to seeing you there.\n\nHere are the details:<br>Future Glitch - 7pm Showtime\n14. Juli 2023 um 19:00\nEssence Drive-In\, 500 Terry A Francois Blvd\, San Francisco\, CA 94158\, USA
END:VEVENT
END:VCALENDAR
