BEGIN:VCALENDAR
CALSCALE:GREGORIAN
BEGIN:VEVENT
DTSTAMP:20230306T011905Z
DTSTART:20230716T020000Z
DTEND:20230716T060000Z
SUMMARY:Paper Camp - 7pm Showtime
UID:d9931765-26f2-4032-adab-0042b8d45ade
LOCATION:500 Terry A Francois Blvd\, San Francisco\, CA 94158\, USA
DESCRIPTION:Thank you for registering to our event! Your tickets are attached to this email. Don't forget to bring them.\n\nWe're looking forward to seeing you there.\n\nHere are the details:\n\nPaper Camp - 7pm Showtime\n15. Juli 2023 um 19:00\nEssence Drive-In\, 500 Terry A Francois Blvd\, San Francisco\, CA 94158\, USA
X-ALT-DESC;FMTTYPE=text/html:Thank you for registering to our event! Your tickets are attached to this email. Don't forget to bring them.\n\nWe're looking forward to seeing you there.\n\nHere are the details:<br>Paper Camp - 7pm Showtime\n15. Juli 2023 um 19:00\nEssence Drive-In\, 500 Terry A Francois Blvd\, San Francisco\, CA 94158\, USA
END:VEVENT
END:VCALENDAR
