BEGIN:VCALENDAR
CALSCALE:GREGORIAN
BEGIN:VEVENT
DTSTAMP:20230610T221302Z
DTSTART:20230516T160000Z
DTEND:20230517T160000Z
SUMMARY:Projection du film "Le point sur les i"
UID:05a5e356-1991-43dd-82a7-05d7bf6ce78e
LOCATION:Rue de Carouge 52\, 1205 Genève\, Suisse
X-ALT-DESC;FMTTYPE=text/html:
END:VEVENT
END:VCALENDAR
