BEGIN:VCALENDAR
CALSCALE:GREGORIAN
BEGIN:VEVENT
DTSTAMP:20230610T221405Z
DTSTART:20350708T020000Z
DTEND:20350713T060000Z
SUMMARY:LGBTQ+ Film Festival
UID:07ec950f-cbb4-429c-9086-392aea734bbf
LOCATION:500 Terry A Francois Blvd\, San Francisco\, CA 94158\, USA
DESCRIPTION:Thank you for registering to our event!\n\nWe're looking forward to seeing you there.\n\nHere are the event details:\n\nLGBTQ+ Film Festival\n7 juillet 2035 à 19:00 – 12 juillet 2035 à 23:00\n500 Terry A Francois Blvd\, 500 Terry A Francois Blvd\, San Francisco\, CA 94158\, USA
X-ALT-DESC;FMTTYPE=text/html:Thank you for registering to our event!\n\nWe're looking forward to seeing you there.\n\nHere are the event details:<br>LGBTQ+ Film Festival\n7 juillet 2035 à 19:00 – 12 juillet 2035 à 23:00\n500 Terry A Francois Blvd\, 500 Terry A Francois Blvd\, San Francisco\, CA 94158\, USA
END:VEVENT
END:VCALENDAR
