BEGIN:VCALENDAR
CALSCALE:GREGORIAN
BEGIN:VEVENT
DTSTAMP:20230610T221317Z
DTSTART:20230609T204000Z
DTEND:20230609T214000Z
SUMMARY:Seven & The Charly's Lovers
UID:191365cf-a7e9-4b48-b847-29eb6159c250
LOCATION:Prom. des Bastions\, 1205 Genève\, Suisse
X-ALT-DESC;FMTTYPE=text/html:
END:VEVENT
END:VCALENDAR
