BEGIN:VCALENDAR
CALSCALE:GREGORIAN
BEGIN:VEVENT
DTSTAMP:20230610T221325Z
DTSTART:20230422T190000Z
DTEND:20230423T020000Z
SUMMARY:Silent Party
UID:11aae2f2-ef2e-4847-a879-cf3c90d42ec9
LOCATION:Av. du Mail 31\, 1205 Genève\, Switzerland
X-ALT-DESC;FMTTYPE=text/html:
END:VEVENT
END:VCALENDAR
