BEGIN:VCALENDAR
CALSCALE:GREGORIAN
BEGIN:VEVENT
DTSTAMP:20230610T221357Z
DTSTART:20230607T173000Z
DTEND:20230607T190000Z
SUMMARY:[Regards croisés] Les activistes d’hier et d’aujourd’hui
UID:1c95e17d-5cec-450b-94fb-92d54f992719
LOCATION:Rue de Carouge 52\, 1205 Genève\, Suisse
X-ALT-DESC;FMTTYPE=text/html:
END:VEVENT
END:VCALENDAR
