BEGIN:VCALENDAR
CALSCALE:GREGORIAN
BEGIN:VEVENT
DTSTAMP:20230610T221425Z
DTSTART:20230609T193000Z
DTEND:20230609T203000Z
SUMMARY:Ben Lewis
UID:1ce2217f-118d-443f-872f-32cd0e67472b
LOCATION:Prom. des Bastions\, 1205 Genève\, Suisse
X-ALT-DESC;FMTTYPE=text/html:
END:VEVENT
END:VCALENDAR
