BEGIN:VCALENDAR
CALSCALE:GREGORIAN
BEGIN:VEVENT
DTSTAMP:20230610T221358Z
DTSTART:20230415T170000Z
DTEND:20230415T215000Z
SUMMARY:Meet the Pride
UID:1d0bc914-6548-4aa3-bbae-36fd76f54ad5
LOCATION:Av. de Frontenex 34\, 1207 Genève\, Suisse
X-ALT-DESC;FMTTYPE=text/html:
END:VEVENT
END:VCALENDAR
