BEGIN:VCALENDAR
CALSCALE:GREGORIAN
BEGIN:VEVENT
DTSTAMP:20230610T221330Z
DTSTART:20230603T210000Z
DTEND:20230604T040000Z
SUMMARY:Geneva Pride Opening Night
UID:25aea483-c9c4-4e0a-aa75-12bec07d94f0
LOCATION:Pl. des Volontaires 4\, 1204 Genève\, Suisse
X-ALT-DESC;FMTTYPE=text/html:
END:VEVENT
END:VCALENDAR
