BEGIN:VCALENDAR
CALSCALE:GREGORIAN
BEGIN:VEVENT
DTSTAMP:20230610T221350Z
DTSTART:20230609T090000Z
DTEND:20230609T160000Z
SUMMARY:CØLLECTIVE (R)EVOLUTION here we go for the 6th Edition
UID:207f6489-bcdf-4207-8393-28eb2ae32df0
LOCATION:Bd du Théâtre\, 1204 Genève\, Suisse
X-ALT-DESC;FMTTYPE=text/html:
END:VEVENT
END:VCALENDAR
