BEGIN:VCALENDAR
CALSCALE:GREGORIAN
BEGIN:VEVENT
DTSTAMP:20230610T221349Z
DTSTART:20230608T200000Z
DTEND:20230608T210000Z
SUMMARY:DJ Lion (soirée Disco Poppers)
UID:3f88a456-a05d-44bb-986c-f82f28890008
LOCATION:Rue de Carouge 52\, 1205 Genève\, Suisse
X-ALT-DESC;FMTTYPE=text/html:
END:VEVENT
END:VCALENDAR
