BEGIN:VCALENDAR
CALSCALE:GREGORIAN
BEGIN:VEVENT
DTSTAMP:20230610T221310Z
DTSTART:20230609T171000Z
DTEND:20230609T181000Z
SUMMARY:Janti
UID:46bd4a31-e4d3-4e66-868e-b4db66cb624c
LOCATION:Prom. des Bastions\, 1205 Genève\, Suisse
X-ALT-DESC;FMTTYPE=text/html:
END:VEVENT
END:VCALENDAR
