BEGIN:VCALENDAR
CALSCALE:GREGORIAN
BEGIN:VEVENT
DTSTAMP:20230610T214921Z
DTSTART:20230611T010000Z
DTEND:20230611T030000Z
SUMMARY:Garance B2B Disoul
UID:4857a6fd-500b-4450-b4a3-8178353a28cf
LOCATION:Rue du Stand 3BIS\, 1204 Genève\, Suisse
X-ALT-DESC;FMTTYPE=text/html:
END:VEVENT
END:VCALENDAR
