BEGIN:VCALENDAR
CALSCALE:GREGORIAN
BEGIN:VEVENT
DTSTAMP:20230610T221446Z
DTSTART:20230606T090000Z
DTEND:20230606T160000Z
SUMMARY:CØLLECTIVE (R)EVOLUTION here we go for the 6th Edition
UID:57ab6e7b-99a1-4f75-abd8-d328a6caf2d8
LOCATION:Bd du Théâtre\, 1204 Genève\, Suisse
X-ALT-DESC;FMTTYPE=text/html:
END:VEVENT
END:VCALENDAR
