BEGIN:VCALENDAR
CALSCALE:GREGORIAN
BEGIN:VEVENT
DTSTAMP:20230610T221304Z
DTSTART:20230608T200000Z
DTEND:20230609T000000Z
SUMMARY:Soirée Disco Poppers
UID:59074460-7a15-4862-b881-66e88af63a39
LOCATION:Rue de Carouge 52\, 1205 Genève\, Suisse
X-ALT-DESC;FMTTYPE=text/html:
END:VEVENT
END:VCALENDAR
